Workbook

Sheet Inputs
A1: Input | B1: Value
A2: Budget, RUB | B2: 30000
A3: First day | B3: 46330
A4: Last day | B4: 46336
A5: Days | B5: =B4-B3+1 -> 7
A6: Scenario CPA, RUB | B6: 500
A7: Shares must total 100%; this is a scenario, not a forecast.
A8: Re-export when changing duration or number of channels.

Sheet Channels
A1: Channel | B1: Share, % | C1: Budget, RUB | D1: Purchases at CPA
A2: Search | B2: 50 | C2: =QUOTIENT(ROUND(Inputs!B2*100,0)*B2,100)/100 -> 15000 | D2: =IF(Inputs!B6>0,QUOTIENT(ROUND(C2*100,0),ROUND(Inputs!B6*100,0)),"") -> 30
A3: Telegram | B3: 30 | C3: =QUOTIENT(ROUND(Inputs!B2*100,0)*B3,100)/100 -> 9000 | D3: =IF(Inputs!B6>0,QUOTIENT(ROUND(C3*100,0),ROUND(Inputs!B6*100,0)),"") -> 18
A4: Other channels | B4: 20 | C4: =(ROUND(Inputs!B2*100,0)-ROUND(SUM(C2:C3)*100,0))/100 -> 6000 | D4: =IF(Inputs!B6>0,QUOTIENT(ROUND(C4*100,0),ROUND(Inputs!B6*100,0)),"") -> 12

Sheet Calendar
A1: Date | B1: Channel | C1: Daily budget, RUB
A2: =Inputs!B3+0 -> 46330 | B2: =Channels!A2 -> Search | C2: =(QUOTIENT(ROUND(Channels!C2*100,0),Inputs!B5)+IF(0<MOD(ROUND(Channels!C2*100,0),Inputs!B5),1,0))/100 -> 2142.86
A3: =Inputs!B3+1 -> 46331 | B3: =Channels!A2 -> Search | C3: =(QUOTIENT(ROUND(Channels!C2*100,0),Inputs!B5)+IF(1<MOD(ROUND(Channels!C2*100,0),Inputs!B5),1,0))/100 -> 2142.86
A4: =Inputs!B3+2 -> 46332 | B4: =Channels!A2 -> Search | C4: =(QUOTIENT(ROUND(Channels!C2*100,0),Inputs!B5)+IF(2<MOD(ROUND(Channels!C2*100,0),Inputs!B5),1,0))/100 -> 2142.86
A5: =Inputs!B3+3 -> 46333 | B5: =Channels!A2 -> Search | C5: =(QUOTIENT(ROUND(Channels!C2*100,0),Inputs!B5)+IF(3<MOD(ROUND(Channels!C2*100,0),Inputs!B5),1,0))/100 -> 2142.86
A6: =Inputs!B3+4 -> 46334 | B6: =Channels!A2 -> Search | C6: =(QUOTIENT(ROUND(Channels!C2*100,0),Inputs!B5)+IF(4<MOD(ROUND(Channels!C2*100,0),Inputs!B5),1,0))/100 -> 2142.86
A7: =Inputs!B3+5 -> 46335 | B7: =Channels!A2 -> Search | C7: =(QUOTIENT(ROUND(Channels!C2*100,0),Inputs!B5)+IF(5<MOD(ROUND(Channels!C2*100,0),Inputs!B5),1,0))/100 -> 2142.85
A8: =Inputs!B3+6 -> 46336 | B8: =Channels!A2 -> Search | C8: =(QUOTIENT(ROUND(Channels!C2*100,0),Inputs!B5)+IF(6<MOD(ROUND(Channels!C2*100,0),Inputs!B5),1,0))/100 -> 2142.85
A9: =Inputs!B3+0 -> 46330 | B9: =Channels!A3 -> Telegram | C9: =(QUOTIENT(ROUND(Channels!C3*100,0),Inputs!B5)+IF(0<MOD(ROUND(Channels!C3*100,0),Inputs!B5),1,0))/100 -> 1285.72
A10: =Inputs!B3+1 -> 46331 | B10: =Channels!A3 -> Telegram | C10: =(QUOTIENT(ROUND(Channels!C3*100,0),Inputs!B5)+IF(1<MOD(ROUND(Channels!C3*100,0),Inputs!B5),1,0))/100 -> 1285.72
A11: =Inputs!B3+2 -> 46332 | B11: =Channels!A3 -> Telegram | C11: =(QUOTIENT(ROUND(Channels!C3*100,0),Inputs!B5)+IF(2<MOD(ROUND(Channels!C3*100,0),Inputs!B5),1,0))/100 -> 1285.72
A12: =Inputs!B3+3 -> 46333 | B12: =Channels!A3 -> Telegram | C12: =(QUOTIENT(ROUND(Channels!C3*100,0),Inputs!B5)+IF(3<MOD(ROUND(Channels!C3*100,0),Inputs!B5),1,0))/100 -> 1285.71
A13: =Inputs!B3+4 -> 46334 | B13: =Channels!A3 -> Telegram | C13: =(QUOTIENT(ROUND(Channels!C3*100,0),Inputs!B5)+IF(4<MOD(ROUND(Channels!C3*100,0),Inputs!B5),1,0))/100 -> 1285.71
A14: =Inputs!B3+5 -> 46335 | B14: =Channels!A3 -> Telegram | C14: =(QUOTIENT(ROUND(Channels!C3*100,0),Inputs!B5)+IF(5<MOD(ROUND(Channels!C3*100,0),Inputs!B5),1,0))/100 -> 1285.71
A15: =Inputs!B3+6 -> 46336 | B15: =Channels!A3 -> Telegram | C15: =(QUOTIENT(ROUND(Channels!C3*100,0),Inputs!B5)+IF(6<MOD(ROUND(Channels!C3*100,0),Inputs!B5),1,0))/100 -> 1285.71
A16: =Inputs!B3+0 -> 46330 | B16: =Channels!A4 -> Other channels | C16: =(QUOTIENT(ROUND(Channels!C4*100,0),Inputs!B5)+IF(0<MOD(ROUND(Channels!C4*100,0),Inputs!B5),1,0))/100 -> 857.15
A17: =Inputs!B3+1 -> 46331 | B17: =Channels!A4 -> Other channels | C17: =(QUOTIENT(ROUND(Channels!C4*100,0),Inputs!B5)+IF(1<MOD(ROUND(Channels!C4*100,0),Inputs!B5),1,0))/100 -> 857.15
A18: =Inputs!B3+2 -> 46332 | B18: =Channels!A4 -> Other channels | C18: =(QUOTIENT(ROUND(Channels!C4*100,0),Inputs!B5)+IF(2<MOD(ROUND(Channels!C4*100,0),Inputs!B5),1,0))/100 -> 857.14
A19: =Inputs!B3+3 -> 46333 | B19: =Channels!A4 -> Other channels | C19: =(QUOTIENT(ROUND(Channels!C4*100,0),Inputs!B5)+IF(3<MOD(ROUND(Channels!C4*100,0),Inputs!B5),1,0))/100 -> 857.14
A20: =Inputs!B3+4 -> 46334 | B20: =Channels!A4 -> Other channels | C20: =(QUOTIENT(ROUND(Channels!C4*100,0),Inputs!B5)+IF(4<MOD(ROUND(Channels!C4*100,0),Inputs!B5),1,0))/100 -> 857.14
A21: =Inputs!B3+5 -> 46335 | B21: =Channels!A4 -> Other channels | C21: =(QUOTIENT(ROUND(Channels!C4*100,0),Inputs!B5)+IF(5<MOD(ROUND(Channels!C4*100,0),Inputs!B5),1,0))/100 -> 857.14
A22: =Inputs!B3+6 -> 46336 | B22: =Channels!A4 -> Other channels | C22: =(QUOTIENT(ROUND(Channels!C4*100,0),Inputs!B5)+IF(6<MOD(ROUND(Channels!C4*100,0),Inputs!B5),1,0))/100 -> 857.14
